BEGIN:VCALENDAR
VERSION:2.0
PRODID:-//AudioTheme 3.0.2
BEGIN:VEVENT
UID:urn:uuid:3d1c7cfd-b52e-4152-acac-2868f6fdc235
URL:https://kevinbrady.ie/shows/the-tommy-halferty-trio-tudo-e-som-live-at-the-lexicon/
DTSTART;TZID=GMT:20201015T190000
SUMMARY:The Tommy Halferty Trio - Tudo e Som - Live at The Lexicon
DESCRIPTION:The Tommy Halferty Trio featuring Scott Flanigan complete their Musician Residency in Dun Laoghaire culminating in a performance of their latest project entitled: Tudo e Som at the Lexicon Theatre. More details to follow soon on tickets & social distancing guidelines.
LOCATION:Lexicon Theatre\, Dún Laoghaire-Rathdown County Council\,   County Hall\, Marine Road\, Dún Laoghaire\, Co.Dublin.\, Co.Dublin\, \, Ireland
END:VEVENT
END:VCALENDAR
