BEGIN:VCALENDAR
VERSION:2.0
PRODID:-//AudioTheme 3.0.2
BEGIN:VEVENT
UID:urn:uuid:545b166a-725e-4684-a03c-83b120ac49dc
URL:https://kevinbrady.ie/shows/the-tommy-halferty-quartet-live-at-arthurs-jazz-n-blues-club/
DTSTART;TZID=GMT:20220925T153000
SUMMARY:The Tommy Halferty Quartet - Live at Arthurs Jazz 'n' Blues Club
DESCRIPTION:The Tommy Halferty Quartet - Live at Arthurs Jazz 'n' Blues Club
LOCATION:Arthurs Jazz n Blues Club\, 28 Thomas St\, Ushers\,   Dublin\, Dublin\, \, Ireland\, Dublin.2
END:VEVENT
END:VCALENDAR
