BEGIN:VCALENDAR
VERSION:2.0
PRODID:-//AudioTheme 3.0.2
BEGIN:VEVENT
UID:urn:uuid:b18de074-d1f8-4a6e-b822-6326ec022949
URL:https://kevinbrady.ie/shows/the-scott-flanigan-quartet-tour-of-ireland/
DTSTART;TZID=GMT:20230427T190000
SUMMARY:The Scott Flanigan Quartet -  Live in Kilkenny
DESCRIPTION:The Scott Flanigan Quartet in association with Moving on Music & The Improvised Music Company begin their extensive Tour of Ireland from April 27th to May 7th 2023.     For more info visit: www.scottflanigan.com    
LOCATION:Sofa Sessions at Billy Byrnes\, Billy Byrnes\,  John Street\,  Kilkenny\, Kilkenny\, Kilkenny\, Ireland
END:VEVENT
END:VCALENDAR
