BEGIN:VCALENDAR
VERSION:2.0
PRODID:-//AudioTheme 3.0.2
BEGIN:VEVENT
UID:urn:uuid:025786f0-7164-4f14-8cec-e21206576630
URL:https://kevinbrady.ie/shows/the-scott-flanigan-quartet-live-at-the-market-place-armagh/
DTSTART;VALUE=DATE:20230429
SUMMARY:The Scott Flanigan Quartet -  Live at The Market Place / Armagh
DESCRIPTION:Scott Flanigan Quartet performing Live at The Market Place in Armagh on Saturday 29th of April. Promoting the new album ' Clouded Lines'.
LOCATION:Market Place Theatre & Arts Centre\, 9 Market St\, Armagh\, Armagh\, Northern Ireland\, United Kingdom\, BT61 7BW
END:VEVENT
END:VCALENDAR
