BEGIN:VCALENDAR
VERSION:2.0
PRODID:-//AudioTheme 3.0.2
BEGIN:VEVENT
UID:urn:uuid:74598fe4-47e3-4a9f-ab5e-3b782cc7ae29
URL:https://kevinbrady.ie/shows/the-richie-buckley-quintet-live-in-dublin/
DTSTART;TZID=GMT:20230528T153000
SUMMARY:The Richie Buckley Quintet - Live in Dublin
DESCRIPTION:The Richie Buckley Quintet - Live at Arthur's Jazz 'n' Blues Club
LOCATION:Arthurs Jazz n Blues Club\, 28 Thomas St\, Ushers\,   Dublin\, Dublin\, \, Ireland\, Dublin.2
END:VEVENT
END:VCALENDAR
