BEGIN:VCALENDAR
VERSION:2.0
PRODID:-//AudioTheme 3.0.2
BEGIN:VEVENT
UID:urn:uuid:19dd3e2c-d6f7-42da-bd03-73a1af7bfa8e
URL:https://kevinbrady.ie/shows/the-richie-buckley-quintet-live-at-arthurs-jazz-club-2/
DTSTART;TZID=GMT:20221211T160000
SUMMARY:The Richie Buckley Quintet - Live at Arthurs Jazz Club
DESCRIPTION:The Richie Buckley Quintet will perform at Arthur's Blue 'n' Jazz Club in Dublin  Sunday 11th of December
LOCATION:Arthurs Jazz n Blues Club\, 28 Thomas St\, Ushers\,   Dublin\, Dublin\, \, Ireland\, Dublin.2
END:VEVENT
END:VCALENDAR
