BEGIN:VCALENDAR
VERSION:2.0
PRODID:-//AudioTheme 3.0.2
BEGIN:VEVENT
UID:urn:uuid:9ab816d3-aaca-4baa-abdc-1c0a3dc25011
URL:https://kevinbrady.ie/shows/the-richie-buckley-quartet-live-at-frank-ryans-dublin/
DTSTART;TZID=GMT:20230209T210000
SUMMARY:The Richie Buckley Quartet - Live at Frank Ryans-Dublin
DESCRIPTION:The Richie Buckley Quartet Live at Frank Ryans Pub in Smithfield - Every Thursday Night
LOCATION:Frank Ryans Pub\, 5 Queen St\, Smithfield\, Dublin 7\, D07 T227\, Dublin\, \, Ireland\, D07 T227
END:VEVENT
END:VCALENDAR
