BEGIN:VCALENDAR
VERSION:2.0
PRODID:-//AudioTheme 3.0.2
BEGIN:VEVENT
UID:urn:uuid:afa774c3-3dae-4b66-8baa-9f8b2e8b7ab9
URL:https://kevinbrady.ie/shows/the-richard-nelson-quartet-live-at-arthurs/
DTSTART;TZID=GMT:20221204T190000
SUMMARY:The Richard Nelson Quartet - Live at Arthurs
DESCRIPTION:Pedal Steel Guitarist Richard Nelson brings his Quartet to The Workmans Club on Sunday 4th of December
LOCATION:The Workmans Club\, 10 Wellington Quay\, Temple Bar\,   Dublin 2\, \, Dublin\, \, Ireland\, D02 VX36
END:VEVENT
END:VCALENDAR
