BEGIN:VCALENDAR
VERSION:2.0
PRODID:-//AudioTheme 3.0.2
BEGIN:VEVENT
UID:http://kevinbrady.ie/?post_type=audiotheme_gig&#038;p=1229
URL:https://kevinbrady.ie/shows/the-rbg-trio-scott-flanigan-live-in-dublin/
DTSTART;TZID=GMT:20200313T210000
SUMMARY:The RBG Trio & Scott Flanigan - Live in Dublin
DESCRIPTION:The RBG Trio & Scott Flanigan - Live in Dublin
LOCATION:Arthurs Jazz n Blues Club\, 28 Thomas St\, Ushers\,   Dublin\, Dublin\, \, Ireland\, Dublin.2
END:VEVENT
END:VCALENDAR
