BEGIN:VCALENDAR
VERSION:2.0
PRODID:-//AudioTheme 3.0.2
BEGIN:VEVENT
UID:urn:uuid:fddcc431-81d9-43d5-bb25-bfb811e53834
URL:https://kevinbrady.ie/shows/the-rbg-trio-live-at-the-london-jazz-festival/
DTSTART;TZID=GMT:20231118T180000
SUMMARY:The RBG Trio - Live at The London Jazz Festival
DESCRIPTION:The RBG Trio - Live at The 2023 EFG London Jazz Festival
LOCATION:The Barbican\, Barbican Centre\, Silk Street\, London\, \, United Kingdom\, EC2Y 8DS
END:VEVENT
END:VCALENDAR
