BEGIN:VCALENDAR
VERSION:2.0
PRODID:-//AudioTheme 3.0.2
BEGIN:VEVENT
UID:urn:uuid:35b1b672-06dc-4411-ac48-d3a1f28ac27c
URL:https://kevinbrady.ie/shows/the-rbg-trio-live-at-jpn-jazz-conference/
DTSTART;TZID=GMT:20221103T203000
SUMMARY:The RBG Trio - Live at JPN Jazz Conference
DESCRIPTION:The RBG Trio perform at the 2022 JPN Jazz Conference
LOCATION:The Blackbox\, 18-22 Hill St\, Belfast BT1 2LA\, Belfast\, \, United Kingdom
END:VEVENT
END:VCALENDAR
