BEGIN:VCALENDAR
VERSION:2.0
PRODID:-//AudioTheme 3.0.2
BEGIN:VEVENT
UID:urn:uuid:38ca0079-a9f9-4e47-8fec-108318fe0109
URL:https://kevinbrady.ie/shows/the-rbg-trio-live-at-arthurs-jazz-club/
DTSTART;TZID=GMT:20221210T210000
SUMMARY:The RBG Trio - Live at Arthurs Jazz Club
DESCRIPTION:The RBG Trio - Sax/Bass/Drums - Live at Arthurs Jazz Club
LOCATION:Arthurs Jazz n Blues Club\, 28 Thomas St\, Ushers\,   Dublin\, Dublin\, \, Ireland\, Dublin.2
END:VEVENT
END:VCALENDAR
