BEGIN:VCALENDAR
VERSION:2.0
PRODID:-//AudioTheme 3.0.2
BEGIN:VEVENT
UID:urn:uuid:fa37ebc8-3e83-4324-90de-b5943298f9d2
URL:https://kevinbrady.ie/shows/the-rbg-trio-ban-bam-fest/
DTSTART;TZID=GMT:20240120T200000
SUMMARY:The RBG Trio - Live at The Smock Alley Theatre
DESCRIPTION:In 2020\, IMC combined with Moving On Music’s extensive experience with their emerging artists programme\, to launch a BAN BAM commission and development opportunity for female and gender-minority artists across Ireland.
LOCATION:Smock Alley\, 6-7 Exchange Street Lower\, Temple Bar\, Dublin 8\, D08 EH67\, Dublin\, \, Ireland\, D08 EH67
END:VEVENT
END:VCALENDAR
