BEGIN:VCALENDAR
VERSION:2.0
PRODID:-//AudioTheme 3.0.2
BEGIN:VEVENT
UID:urn:uuid:9adfd610-f682-4f3a-a0bf-685985cb2dd4
URL:https://kevinbrady.ie/shows/the-randy-ingram-trio-u-s-live-at-the-bray-jazz-festival/
DTSTART;TZID=GMT:20220430T203000
SUMMARY:The Randy Ingram Trio (U.S.) - Live at The Bray Jazz Festival
DESCRIPTION:U.S. pianist/composer Randy Ingram make his Bray Jazz Festival debut with leading rhythm section of bassist Dave Redmond and Drummer Kevin Brady.
LOCATION:Bray Jazz Festival\, Bray\, \, Ireland
END:VEVENT
END:VCALENDAR
