BEGIN:VCALENDAR
VERSION:2.0
PRODID:-//AudioTheme 3.0.2
BEGIN:VEVENT
UID:urn:uuid:f099b42a-9a4f-4887-ae57-b9f59e1cfa47
URL:https://kevinbrady.ie/shows/the-lee-meehan-quartet-live-at-arthurs-jazz-club/
DTSTART;VALUE=DATE:
SUMMARY:The Dan Nicholas Quartet - Live at Arthur's Jazz Club
DESCRIPTION:The Dan Nicholas Quartet featuring Lee Meehan Guitar\, Kevin Brady Drums & Scott Flanigan on Hammond Organ performing at Arthurs Jazz Club
LOCATION:Arthurs Jazz n Blues Club\, 28 Thomas St\, Ushers\,   Dublin\, Dublin\, \, Ireland\, Dublin.2
END:VEVENT
END:VCALENDAR
