BEGIN:VCALENDAR
VERSION:2.0
PRODID:-//AudioTheme 3.0.2
BEGIN:VEVENT
UID:urn:uuid:da0e2f82-b45e-4a7f-becc-11e99856408d
URL:https://kevinbrady.ie/shows/the-kevin-brady-quartet-live-at-magys-farm/
DTSTART;TZID=GMT:20211128T200000
SUMMARY:The Kevin Brady Quartet - Live at Magy's Farm
DESCRIPTION:The Kevin Brady Electric Quartet make their debut performance in Northern Ireland performing at  Magy's Farm on Sunday 28th of November at 8pm
LOCATION:Magy's Farm\, Magy's Farm\, 59 Dechomet Rd\, Dromara\, Co. Down\, BT25 2HQ\, Dromara\, \, United Kingdom\, BT25 2HQ
END:VEVENT
END:VCALENDAR
