BEGIN:VCALENDAR
VERSION:2.0
PRODID:-//AudioTheme 3.0.2
BEGIN:VEVENT
UID:urn:uuid:f1161616-f79e-403f-9db5-2d0d838c5893
URL:https://kevinbrady.ie/shows/the-kevin-brady-electric-quartet-live-in-wexford/
DTSTART;TZID=GMT:20250509T190000
SUMMARY:The Kevin Brady Electric Quartet - Live in Wexford
DESCRIPTION:The Kevin Brady Electric Quartet - Live at The Wexford Arts Centre 
LOCATION:Wexford Arts Centre\, Cornmarket  Wexford Town\, Wexford\, \, Ireland
END:VEVENT
END:VCALENDAR
