BEGIN:VCALENDAR
VERSION:2.0
PRODID:-//AudioTheme 3.0.2
BEGIN:VEVENT
UID:urn:uuid:ebbd42ca-5c64-4843-818a-b902319b0873
URL:https://kevinbrady.ie/shows/the-kevin-brady-electric-quartet-live-in-kilkenny/
DTSTART;TZID=GMT:20211202T200000
SUMMARY:The Kevin Brady Electric Quartet - Live in Kilkenny
DESCRIPTION:The Kevin Brady Electric Quartet   Promotional Tour of Ireland  Live at The Sofa Sessions at Billy Byrne's in Kilkenny  Presented with Funding by The Touring Award - The Arts Council of Ireland
LOCATION:Sofa Sessions at Billy Byrnes\, Billy Byrnes\,  John Street\,  Kilkenny\, Kilkenny\, Kilkenny\, Ireland
END:VEVENT
END:VCALENDAR
