BEGIN:VCALENDAR
VERSION:2.0
PRODID:-//AudioTheme 3.0.2
BEGIN:VEVENT
UID:urn:uuid:c9979ee5-3c96-4bbc-be4f-a5d932d64b0c
URL:https://kevinbrady.ie/shows/the-kevin-brady-electric-quartet-live-in-dublin/
DTSTART;TZID=GMT:20211204T210000
SUMMARY:The Kevin Brady Electric Quartet - Live in Dublin
DESCRIPTION:The Kevin Brady Electric Quartet - Album Launch Party  featuring Seamus Blake\, Bill Carrothers & Dave Redmond
LOCATION:Bello Bar\, 1 Portobello Harbour\, Saint Kevin's\, Dublin\, Dublin\, \, Ireland\, Dublin 8
END:VEVENT
END:VCALENDAR
