BEGIN:VCALENDAR
VERSION:2.0
PRODID:-//AudioTheme 3.0.2
BEGIN:VEVENT
UID:urn:uuid:8c86c5b0-6dcb-4ec0-9dcf-43e7033018d1
URL:https://kevinbrady.ie/shows/the-kevin-brady-electric-quartet-live-at-the-triskel-arts-centre/
DTSTART;TZID=GMT:20211203T200000
SUMMARY:The Kevin Brady Electric Quartet - Live at The Triskel Arts Centre
DESCRIPTION:The Kevin Brady Electric Quartet - Tour of Ireland  The Triskel Arts Centre - Cork  Presented with Funding by The Arts Council of Ireland
LOCATION:Triskel Arts Centre\, Tobin Street\, Cork\, \, Ireland
END:VEVENT
END:VCALENDAR
