BEGIN:VCALENDAR
VERSION:2.0
PRODID:-//AudioTheme 3.0.2
BEGIN:VEVENT
UID:urn:uuid:b2c6e72f-fe84-4db9-804c-3c549137574f
URL:https://kevinbrady.ie/shows/the-kevin-brady-electric-quartet-live-at-the-solstice-arts-centre/
DTSTART;TZID=GMT:20250508T190000
SUMMARY:The Kevin Brady Electric Quartet - Live at The Solstice Arts Centre
DESCRIPTION:The Kevin Brady Electric Quartet featuring Seamus Blake & Bill Carrothers - Live at The Solstice Arts Centre
LOCATION:Solstice Arts Centre\, Solstice Arts Centre  Railway Street  Navan  Co.Meath  Ireland \, Navan\, \, Ireland\, Co.Meath
END:VEVENT
END:VCALENDAR
