BEGIN:VCALENDAR
VERSION:2.0
PRODID:-//AudioTheme 3.0.2
BEGIN:VEVENT
UID:urn:uuid:86082cf4-433c-4149-9c60-851b4295a3a6
URL:https://kevinbrady.ie/shows/the-kevin-brady-electric-quartet-live-at-magys-farm/
DTSTART;TZID=GMT:20250505T193000
SUMMARY:The Kevin Brady Electric Quartet - Live at Magy's Farm
DESCRIPTION:The Kevin Brady Electric Quartet - Live at Magy's Farm - Dromora
LOCATION:Magy's Farm\, Magy's Farm\, 59 Dechomet Rd\, Dromara\, Co. Down\, BT25 2HQ\, Dromara\, \, United Kingdom\, BT25 2HQ
END:VEVENT
END:VCALENDAR
