BEGIN:VCALENDAR
VERSION:2.0
PRODID:-//AudioTheme 3.0.2
BEGIN:VEVENT
UID:urn:uuid:67ca9eaa-1364-4ae9-8258-c715e4fcd914
URL:https://kevinbrady.ie/shows/the-john-moriarty-organ-trio-live-in-belfast/
DTSTART;TZID=GMT:20230414T200000
SUMMARY:The John Moriarty Organ Trio - Live in Belfast
DESCRIPTION:John Moriarty Organ Trio - Live at Scott's Jazz Club
LOCATION:Scotts Jazz Club\, 1 Sandown Rd\, Belfast\, Belfast\, Northern Ireland\, United Kingdom\, BT5 6GT
END:VEVENT
END:VCALENDAR
