BEGIN:VCALENDAR
VERSION:2.0
PRODID:-//AudioTheme 3.0.2
BEGIN:VEVENT
UID:urn:uuid:6a229be8-bbd5-489a-9d91-e72a231fa22a
URL:https://kevinbrady.ie/shows/the-cork-jazz-festival-metropole/
DTSTART;TZID=GMT:20231028T213000
SUMMARY:The Cork Jazz Festival - Randy Ingram Trio
DESCRIPTION:Performing with New York Pianist/Composer Randy Ingram at the Triskel Arts Centre as part of the 45th Cork Jazz Festival 
LOCATION:Triskel Arts Centre\, Tobin Street\, Cork\, \, Ireland
END:VEVENT
END:VCALENDAR
