BEGIN:VCALENDAR
VERSION:2.0
PRODID:-//AudioTheme 3.0.2
BEGIN:VEVENT
UID:urn:uuid:86f2e7b3-d613-45ba-9f33-527f60d4ad6b
URL:https://kevinbrady.ie/shows/richard-nelson-5tet-live-in-dublin/
DTSTART;TZID=GMT:20220826T200000
SUMMARY:Richard Nelson 5tet - Live in Dublin
DESCRIPTION:The Richard Nelson 5tet Live at Arthurs Blues 'n' Jazz Club
LOCATION:Arthurs Jazz n Blues Club\, 28 Thomas St\, Ushers\,   Dublin\, Dublin\, \, Ireland\, Dublin.2
END:VEVENT
END:VCALENDAR
