BEGIN:VCALENDAR
VERSION:2.0
PRODID:-//AudioTheme 3.0.2
BEGIN:VEVENT
UID:urn:uuid:4c575b16-1807-4a9b-8ab2-1b49fa808b5e
URL:https://kevinbrady.ie/shows/randy-ingram-newpark-academy-of-music-masterclass/
DTSTART;TZID=GMT:20220427T180000
SUMMARY:Randy Ingram - Newpark Academy of Music Masterclass
DESCRIPTION:Newpark Academy of Music - International Masterclass Series    Newpark Music Academy continues with its hugely popular International Masterclass Series with the critically acclaimed New York based pianist/composer Randy Ingram on Wednesday 27th of April. Workshop at 7pm    
LOCATION:Newpark Academy of Music\, IADT\, Institute of Art\, Design + Technology\, Orchard Suite\, in the Quadrangle Building\, Kill Ave\, Dún Laoghaire\, Dublin\, A96 KH79\, Dublin\, Leinster\, Ireland\, A96 KH79
END:VEVENT
END:VCALENDAR
