BEGIN:VCALENDAR
VERSION:2.0
PRODID:-//AudioTheme 3.0.2
BEGIN:VEVENT
UID:urn:uuid:7dd61777-f9ac-49af-a125-445adbaa6783
URL:https://kevinbrady.ie/shows/organics-hammond-trio-live-at-imma-outdoor-events/
DTSTART;TZID=GMT:20220616T181500
SUMMARY:Organics Hammond Trio - Live at IMMA Outdoor Events
DESCRIPTION:Organics Hammond Trio - Live at IMMA Outdoors Events - Thursday 16th of June Music at 7:15pm
LOCATION:IMMA\, IMMA Royal Hospital\, Military Road Kilmainham Dublin 8\, D08 FW31\, Dublin\, \, Ireland\, D08 FW31
END:VEVENT
END:VCALENDAR
