BEGIN:VCALENDAR
VERSION:2.0
PRODID:-//AudioTheme 3.0.2
BEGIN:VEVENT
UID:urn:uuid:683e2cc8-80f1-4d30-b58a-3d8d7954afcd
URL:https://kevinbrady.ie/shows/monks-music-live-at-dashi-bar-dublin/
DTSTART;TZID=GMT:20230611T190000
SUMMARY:Monk's Music - Live at Dashi Bar, Dublin
DESCRIPTION:Shane Latimer - Guitar\, Daniel Rorke - Sax\, Kevin Brady - Drums\, David Redmond - Double Bass Performing a selection of Thelonious Monk's Music - Live at Dashi 
LOCATION:Dashi Bar\, 44 - 47 King St N\, Smithfield\, Dublin\, D07 Y7AA\, Ireland
END:VEVENT
END:VCALENDAR
