BEGIN:VCALENDAR
VERSION:2.0
PRODID:-//AudioTheme 3.0.2
BEGIN:VEVENT
UID:urn:uuid:4e7b2a5a-2dce-48c9-92c3-5fb5e4166db3
URL:https://kevinbrady.ie/shows/free-for-all-art-blakey-project-live-at-arthurs-jazz-club/
DTSTART;TZID=GMT:20220903T200000
SUMMARY:Free for All - Art Blakey Project - Live at Arthurs Jazz Club
DESCRIPTION:Free for All - Art Blakey Sextet Project Live at Arthurs Jazz n Blues Club
LOCATION:Arthurs Jazz n Blues Club\, 28 Thomas St\, Ushers\,   Dublin\, Dublin\, \, Ireland\, Dublin.2
END:VEVENT
END:VCALENDAR
