BEGIN:VCALENDAR
VERSION:2.0
PRODID:-//AudioTheme 3.0.2
BEGIN:VEVENT
UID:urn:uuid:7c96462e-ba61-4dfe-be93-cf1f3d176875
URL:https://kevinbrady.ie/shows/eurochile-jazz-festival-online-festival/
DTSTART;TZID=GMT:20201003T190000
SUMMARY:Jazz Chile Europa Festival 2020
DESCRIPTION:Jazz ChileEuropa Festival taking place in Santiago\, Chile featuring musicians from Europe and Chile. Presented in association with The Irish Embassy in Chile.
END:VEVENT
END:VCALENDAR
