BEGIN:VCALENDAR
VERSION:2.0
PRODID:-//AudioTheme 3.0.2
BEGIN:VEVENT
UID:urn:uuid:747b8e8a-e88b-4518-ba14-6e6ffb17fc8b
URL:https://kevinbrady.ie/shows/bill-carrothers-seamus-blake-masterclass-at-newpark-academy-of-music/
DTSTART;TZID=GMT:20250506T180000
SUMMARY:Bill Carrothers & Seamus Blake - Masterclass at Newpark Academy of Music
DESCRIPTION:Leading U.S. jazz musicians Seamus Blake & Bill Carrothers will conduct a Masterclass at Newpark Academy of Music
LOCATION:Newpark Academy of Music\, IADT\, Institute of Art\, Design + Technology\, Orchard Suite\, in the Quadrangle Building\, Kill Ave\, Dún Laoghaire\, Dublin\, A96 KH79\, Dublin\, Leinster\, Ireland\, A96 KH79
END:VEVENT
END:VCALENDAR
