BEGIN:VCALENDAR
VERSION:2.0
PRODID:-//AudioTheme 3.0.2
BEGIN:VEVENT
UID:urn:uuid:a52492e7-f487-4bb4-8fad-f63ab18b202f
URL:https://kevinbrady.ie/shows/arent-blakey-tribute-band-live-in-dublin/
DTSTART;TZID=GMT:20251011T200000
SUMMARY:Aren't Blakey Tribute Band - Live in Dublin
DESCRIPTION:The Aren't Blakey Tribute Band - Live at Arthurs Jazz Club
LOCATION:Arthurs Jazz n Blues Club\, 28 Thomas St\, Ushers\,   Dublin\, Dublin\, \, Ireland\, Dublin.2
END:VEVENT
END:VCALENDAR
