BEGIN:VCALENDAR
VERSION:2.0
PRODID:-//AudioTheme 3.0.2
BEGIN:VEVENT
UID:urn:uuid:21d49bff-1204-4e25-8207-41b562154217
URL:https://kevinbrady.ie/shows/arent-blakey-tribute-band-live-in-belfast/
DTSTART;TZID=GMT:20251010T200000
SUMMARY:Aren't Blakey Tribute Band - Live in Belfast
DESCRIPTION:The Aren't Blakey Tribute Band - Live in Belfast
LOCATION:Scotts Jazz Club\, 1 Sandown Rd\, Belfast\, Belfast\, Northern Ireland\, United Kingdom\, BT5 6GT
END:VEVENT
END:VCALENDAR
